BEGIN:VCALENDAR
VERSION:2.0
PRODID:-//Cardel Theatre - ECPv6.0.1.1//NONSGML v1.0//EN
CALSCALE:GREGORIAN
METHOD:PUBLISH
X-WR-CALNAME:Cardel Theatre
X-ORIGINAL-URL:https://www.cardeltheatre.com
X-WR-CALDESC:Events for Cardel Theatre
REFRESH-INTERVAL;VALUE=DURATION:PT1H
X-Robots-Tag:noindex
X-PUBLISHED-TTL:PT1H
BEGIN:VTIMEZONE
TZID:America/Edmonton
BEGIN:DAYLIGHT
TZOFFSETFROM:-0700
TZOFFSETTO:-0600
TZNAME:MDT
DTSTART:20240310T090000
END:DAYLIGHT
BEGIN:STANDARD
TZOFFSETFROM:-0600
TZOFFSETTO:-0700
TZNAME:MST
DTSTART:20241103T080000
END:STANDARD
END:VTIMEZONE
BEGIN:VEVENT
DTSTART;TZID=America/Edmonton:20241005T090000
DTEND;TZID=America/Edmonton:20241005T133000
DTSTAMP:20260419T061006
CREATED:20240620T213432Z
LAST-MODIFIED:20240625T200644Z
UID:2277-1728118800-1728135000@www.cardeltheatre.com
SUMMARY:Conference - K Linares
DESCRIPTION:
URL:https://www.cardeltheatre.com/event/conference-k-linares/
END:VEVENT
BEGIN:VEVENT
DTSTART;TZID=America/Edmonton:20241005T161500
DTEND;TZID=America/Edmonton:20241005T204500
DTSTAMP:20260419T061006
CREATED:20240122T180303Z
LAST-MODIFIED:20240528T204207Z
UID:1931-1728144900-1728161100@www.cardeltheatre.com
SUMMARY:Vibe Tribe YYC - S Butler
DESCRIPTION:
URL:https://www.cardeltheatre.com/event/vibe-tribe-yyc-sean-butler/
END:VEVENT
END:VCALENDAR