BEGIN:VCALENDAR
VERSION:2.0
PRODID:-//Cardel Theatre - ECPv6.0.1.1//NONSGML v1.0//EN
CALSCALE:GREGORIAN
METHOD:PUBLISH
X-WR-CALNAME:Cardel Theatre
X-ORIGINAL-URL:https://www.cardeltheatre.com
X-WR-CALDESC:Events for Cardel Theatre
REFRESH-INTERVAL;VALUE=DURATION:PT1H
X-Robots-Tag:noindex
X-PUBLISHED-TTL:PT1H
BEGIN:VTIMEZONE
TZID:America/Edmonton
BEGIN:DAYLIGHT
TZOFFSETFROM:-0700
TZOFFSETTO:-0600
TZNAME:MDT
DTSTART:20240310T090000
END:DAYLIGHT
BEGIN:STANDARD
TZOFFSETFROM:-0600
TZOFFSETTO:-0700
TZNAME:MST
DTSTART:20241103T080000
END:STANDARD
END:VTIMEZONE
BEGIN:VEVENT
DTSTART;TZID=America/Edmonton:20241024T080000
DTEND;TZID=America/Edmonton:20241024T140000
DTSTAMP:20260419T074009
CREATED:20240722T185226Z
LAST-MODIFIED:20240722T185226Z
UID:2314-1729756800-1729778400@www.cardeltheatre.com
SUMMARY:Corporate Event - Assumption Life
DESCRIPTION:
URL:https://www.cardeltheatre.com/event/corporate-event-assumption-life/
END:VEVENT
BEGIN:VEVENT
DTSTART;TZID=America/Edmonton:20241024T173000
DTEND;TZID=America/Edmonton:20241024T213000
DTSTAMP:20260419T074009
CREATED:20240625T195528Z
LAST-MODIFIED:20240625T205540Z
UID:2284-1729791000-1729805400@www.cardeltheatre.com
SUMMARY:Czech Business Association of Canada - K Hofman
DESCRIPTION:
URL:https://www.cardeltheatre.com/event/czech-business-association-of-canada-k-hofman/
END:VEVENT
END:VCALENDAR