BEGIN:VCALENDAR
VERSION:2.0
PRODID:-//Cardel Theatre - ECPv6.0.1.1//NONSGML v1.0//EN
CALSCALE:GREGORIAN
METHOD:PUBLISH
X-WR-CALNAME:Cardel Theatre
X-ORIGINAL-URL:https://www.cardeltheatre.com
X-WR-CALDESC:Events for Cardel Theatre
REFRESH-INTERVAL;VALUE=DURATION:PT1H
X-Robots-Tag:noindex
X-PUBLISHED-TTL:PT1H
BEGIN:VTIMEZONE
TZID:America/Edmonton
BEGIN:DAYLIGHT
TZOFFSETFROM:-0700
TZOFFSETTO:-0600
TZNAME:MDT
DTSTART:20240310T090000
END:DAYLIGHT
BEGIN:STANDARD
TZOFFSETFROM:-0600
TZOFFSETTO:-0700
TZNAME:MST
DTSTART:20241103T080000
END:STANDARD
END:VTIMEZONE
BEGIN:VEVENT
DTSTART;TZID=America/Edmonton:20241107T180000
DTEND;TZID=America/Edmonton:20241107T210000
DTSTAMP:20260419T102930
CREATED:20240730T210057Z
LAST-MODIFIED:20240730T210057Z
UID:2352-1731002400-1731013200@www.cardeltheatre.com
SUMMARY:Corporate Event - RBC Wealth Management
DESCRIPTION:
URL:https://www.cardeltheatre.com/event/corporate-event-rbc-wealth-management/
END:VEVENT
END:VCALENDAR