BEGIN:VCALENDAR
VERSION:2.0
PRODID:-//Cardel Theatre - ECPv6.0.1.1//NONSGML v1.0//EN
CALSCALE:GREGORIAN
METHOD:PUBLISH
X-ORIGINAL-URL:https://www.cardeltheatre.com
X-WR-CALDESC:Events for Cardel Theatre
REFRESH-INTERVAL;VALUE=DURATION:PT1H
X-Robots-Tag:noindex
X-PUBLISHED-TTL:PT1H
BEGIN:VTIMEZONE
TZID:America/Edmonton
BEGIN:DAYLIGHT
TZOFFSETFROM:-0700
TZOFFSETTO:-0600
TZNAME:MDT
DTSTART:20240310T090000
END:DAYLIGHT
BEGIN:STANDARD
TZOFFSETFROM:-0600
TZOFFSETTO:-0700
TZNAME:MST
DTSTART:20241103T080000
END:STANDARD
END:VTIMEZONE
BEGIN:VEVENT
DTSTART;TZID=America/Edmonton:20241129T160000
DTEND;TZID=America/Edmonton:20241129T220000
DTSTAMP:20260421T051723
CREATED:20241007T151417Z
LAST-MODIFIED:20241125T221319Z
UID:2448-1732896000-1732917600@www.cardeltheatre.com
SUMMARY:Caregivers in the Wild Screening - Roadwest Pictures
DESCRIPTION:
URL:https://www.cardeltheatre.com/event/caregivers-in-the-wild-screening-roadwest-pictures/
END:VEVENT
END:VCALENDAR