BEGIN:VCALENDAR
VERSION:2.0
PRODID:-//Cardel Theatre - ECPv6.0.1.1//NONSGML v1.0//EN
CALSCALE:GREGORIAN
METHOD:PUBLISH
X-ORIGINAL-URL:https://www.cardeltheatre.com
X-WR-CALDESC:Events for Cardel Theatre
REFRESH-INTERVAL;VALUE=DURATION:PT1H
X-Robots-Tag:noindex
X-PUBLISHED-TTL:PT1H
BEGIN:VTIMEZONE
TZID:America/Edmonton
BEGIN:DAYLIGHT
TZOFFSETFROM:-0700
TZOFFSETTO:-0600
TZNAME:MDT
DTSTART:20240310T090000
END:DAYLIGHT
BEGIN:STANDARD
TZOFFSETFROM:-0600
TZOFFSETTO:-0700
TZNAME:MST
DTSTART:20241103T080000
END:STANDARD
END:VTIMEZONE
BEGIN:VEVENT
DTSTART;TZID=America/Edmonton:20241207T090000
DTEND;TZID=America/Edmonton:20241207T140000
DTSTAMP:20260421T063322
CREATED:20240716T184918Z
LAST-MODIFIED:20240716T184918Z
UID:2309-1733562000-1733580000@www.cardeltheatre.com
SUMMARY:Gillie Callum Highand Dancers
DESCRIPTION:
URL:https://www.cardeltheatre.com/event/gillie-callum-highand-dancers/
END:VEVENT
BEGIN:VEVENT
DTSTART;TZID=America/Edmonton:20241207T143000
DTEND;TZID=America/Edmonton:20241207T183000
DTSTAMP:20260421T063322
CREATED:20241112T222933Z
LAST-MODIFIED:20241205T223001Z
UID:2568-1733581800-1733596200@www.cardeltheatre.com
SUMMARY:Kiana Rawji Film Screening
DESCRIPTION:
URL:https://www.cardeltheatre.com/event/kiana-rawji-film-screening/
END:VEVENT
END:VCALENDAR