BEGIN:VCALENDAR
VERSION:2.0
PRODID:-//Cardel Theatre - ECPv6.0.1.1//NONSGML v1.0//EN
CALSCALE:GREGORIAN
METHOD:PUBLISH
X-WR-CALNAME:Cardel Theatre
X-ORIGINAL-URL:https://www.cardeltheatre.com
X-WR-CALDESC:Events for Cardel Theatre
REFRESH-INTERVAL;VALUE=DURATION:PT1H
X-Robots-Tag:noindex
X-PUBLISHED-TTL:PT1H
BEGIN:VTIMEZONE
TZID:America/Edmonton
BEGIN:DAYLIGHT
TZOFFSETFROM:-0700
TZOFFSETTO:-0600
TZNAME:MDT
DTSTART:20240310T090000
END:DAYLIGHT
BEGIN:STANDARD
TZOFFSETFROM:-0600
TZOFFSETTO:-0700
TZNAME:MST
DTSTART:20241103T080000
END:STANDARD
END:VTIMEZONE
BEGIN:VEVENT
DTSTART;TZID=America/Edmonton:20241221T110000
DTEND;TZID=America/Edmonton:20241221T173000
DTSTAMP:20260421T063152
CREATED:20231019T143113Z
LAST-MODIFIED:20241209T233449Z
UID:1695-1734778800-1734802200@www.cardeltheatre.com
SUMMARY:Rebec Studio
DESCRIPTION:
URL:https://www.cardeltheatre.com/event/1695/
END:VEVENT
BEGIN:VEVENT
DTSTART;TZID=America/Edmonton:20241221T180000
DTEND;TZID=America/Edmonton:20241221T213000
DTSTAMP:20260421T063152
CREATED:20240729T201918Z
LAST-MODIFIED:20240806T153016Z
UID:2350-1734804000-1734816600@www.cardeltheatre.com
SUMMARY:Piano Recital - S Huynh
DESCRIPTION:
URL:https://www.cardeltheatre.com/event/piano-recital-s-huynh-2/
END:VEVENT
END:VCALENDAR