BEGIN:VCALENDAR
VERSION:2.0
PRODID:-//Cardel Theatre - ECPv6.0.1.1//NONSGML v1.0//EN
CALSCALE:GREGORIAN
METHOD:PUBLISH
X-ORIGINAL-URL:https://www.cardeltheatre.com
X-WR-CALDESC:Events for Cardel Theatre
REFRESH-INTERVAL;VALUE=DURATION:PT1H
X-Robots-Tag:noindex
X-PUBLISHED-TTL:PT1H
BEGIN:VTIMEZONE
TZID:America/Edmonton
BEGIN:DAYLIGHT
TZOFFSETFROM:-0700
TZOFFSETTO:-0600
TZNAME:MDT
DTSTART:20250309T090000
END:DAYLIGHT
BEGIN:STANDARD
TZOFFSETFROM:-0600
TZOFFSETTO:-0700
TZNAME:MST
DTSTART:20251102T080000
END:STANDARD
END:VTIMEZONE
BEGIN:VEVENT
DTSTART;TZID=America/Edmonton:20250117T180000
DTEND;TZID=America/Edmonton:20250117T200000
DTSTAMP:20260421T074923
CREATED:20240826T210237Z
LAST-MODIFIED:20240827T163211Z
UID:2391-1737136800-1737144000@www.cardeltheatre.com
SUMMARY:Movie Night - Kids Cancer Care
DESCRIPTION:
URL:https://www.cardeltheatre.com/event/movie-night-kids-cancer-care-2/
END:VEVENT
END:VCALENDAR