BEGIN:VCALENDAR
VERSION:2.0
PRODID:-//Cardel Theatre - ECPv6.0.1.1//NONSGML v1.0//EN
CALSCALE:GREGORIAN
METHOD:PUBLISH
X-WR-CALNAME:Cardel Theatre
X-ORIGINAL-URL:https://www.cardeltheatre.com
X-WR-CALDESC:Events for Cardel Theatre
REFRESH-INTERVAL;VALUE=DURATION:PT1H
X-Robots-Tag:noindex
X-PUBLISHED-TTL:PT1H
BEGIN:VTIMEZONE
TZID:America/Edmonton
BEGIN:DAYLIGHT
TZOFFSETFROM:-0700
TZOFFSETTO:-0600
TZNAME:MDT
DTSTART:20250309T090000
END:DAYLIGHT
BEGIN:STANDARD
TZOFFSETFROM:-0600
TZOFFSETTO:-0700
TZNAME:MST
DTSTART:20251102T080000
END:STANDARD
END:VTIMEZONE
BEGIN:VEVENT
DTSTART;TZID=America/Edmonton:20250122T180000
DTEND;TZID=America/Edmonton:20250122T213000
DTSTAMP:20260421T074747
CREATED:20241120T230329Z
LAST-MODIFIED:20241120T230329Z
UID:2570-1737568800-1737581400@www.cardeltheatre.com
SUMMARY:A Discussion with the Mayor
DESCRIPTION:Mayor Gondek would like to meet with the board members of Calgary’s community associations to talk about community issues affecting them. We would like to host this as a “conversation” on stage with the Mayor. We will take a few questions from the audience but largely it will be the Mayor and a host having a discussion based on issues communities are having.
URL:https://www.cardeltheatre.com/event/a-discussion-with-the-mayor/
END:VEVENT
END:VCALENDAR