BEGIN:VCALENDAR
VERSION:2.0
PRODID:-//Cardel Theatre - ECPv6.0.1.1//NONSGML v1.0//EN
CALSCALE:GREGORIAN
METHOD:PUBLISH
X-WR-CALNAME:Cardel Theatre
X-ORIGINAL-URL:https://www.cardeltheatre.com
X-WR-CALDESC:Events for Cardel Theatre
REFRESH-INTERVAL;VALUE=DURATION:PT1H
X-Robots-Tag:noindex
X-PUBLISHED-TTL:PT1H
BEGIN:VTIMEZONE
TZID:America/Edmonton
BEGIN:DAYLIGHT
TZOFFSETFROM:-0700
TZOFFSETTO:-0600
TZNAME:MDT
DTSTART:20250309T090000
END:DAYLIGHT
BEGIN:STANDARD
TZOFFSETFROM:-0600
TZOFFSETTO:-0700
TZNAME:MST
DTSTART:20251102T080000
END:STANDARD
END:VTIMEZONE
BEGIN:VEVENT
DTSTART;TZID=America/Edmonton:20250130T143000
DTEND;TZID=America/Edmonton:20250130T183000
DTSTAMP:20260421T075313
CREATED:20241218T235652Z
LAST-MODIFIED:20241218T235652Z
UID:2602-1738247400-1738261800@www.cardeltheatre.com
SUMMARY:Wisdom from Legends
DESCRIPTION:An interview and discussion with three legendary Calgary business and community leaders
URL:https://www.cardeltheatre.com/event/wisdom-from-legends/
END:VEVENT
END:VCALENDAR