BEGIN:VCALENDAR
VERSION:2.0
PRODID:-//Cardel Theatre - ECPv6.0.1.1//NONSGML v1.0//EN
CALSCALE:GREGORIAN
METHOD:PUBLISH
X-ORIGINAL-URL:https://www.cardeltheatre.com
X-WR-CALDESC:Events for Cardel Theatre
REFRESH-INTERVAL;VALUE=DURATION:PT1H
X-Robots-Tag:noindex
X-PUBLISHED-TTL:PT1H
BEGIN:VTIMEZONE
TZID:America/Edmonton
BEGIN:DAYLIGHT
TZOFFSETFROM:-0700
TZOFFSETTO:-0600
TZNAME:MDT
DTSTART:20250309T090000
END:DAYLIGHT
BEGIN:STANDARD
TZOFFSETFROM:-0600
TZOFFSETTO:-0700
TZNAME:MST
DTSTART:20251102T080000
END:STANDARD
END:VTIMEZONE
BEGIN:VEVENT
DTSTART;TZID=America/Edmonton:20250218T170000
DTEND;TZID=America/Edmonton:20250218T210000
DTSTAMP:20260421T134352
CREATED:20241219T212226Z
LAST-MODIFIED:20241219T212226Z
UID:2598-1739898000-1739912400@www.cardeltheatre.com
SUMMARY:Glenlake Hawks U11-1 Movie Night
DESCRIPTION:Gathering of two sister youth hockey teams (and parents) to watch a hockey-related film and have pizza in the lobby.
URL:https://www.cardeltheatre.com/event/glenlake-hawks-u11-1-movie-night/
END:VEVENT
END:VCALENDAR