BEGIN:VCALENDAR
VERSION:2.0
PRODID:-//Cardel Theatre - ECPv6.0.1.1//NONSGML v1.0//EN
CALSCALE:GREGORIAN
METHOD:PUBLISH
X-ORIGINAL-URL:https://www.cardeltheatre.com
X-WR-CALDESC:Events for Cardel Theatre
REFRESH-INTERVAL;VALUE=DURATION:PT1H
X-Robots-Tag:noindex
X-PUBLISHED-TTL:PT1H
BEGIN:VTIMEZONE
TZID:America/Edmonton
BEGIN:DAYLIGHT
TZOFFSETFROM:-0700
TZOFFSETTO:-0600
TZNAME:MDT
DTSTART:20250309T090000
END:DAYLIGHT
BEGIN:STANDARD
TZOFFSETFROM:-0600
TZOFFSETTO:-0700
TZNAME:MST
DTSTART:20251102T080000
END:STANDARD
END:VTIMEZONE
BEGIN:VEVENT
DTSTART;TZID=America/Edmonton:20250414T110000
DTEND;TZID=America/Edmonton:20250414T170000
DTSTAMP:20260421T024206
CREATED:20250401T204223Z
LAST-MODIFIED:20250401T204223Z
UID:2942-1744628400-1744650000@www.cardeltheatre.com
SUMMARY:Game Changers TV Show
DESCRIPTION:Frank Digital Inc
URL:https://www.cardeltheatre.com/event/game-changers-tv-show/
END:VEVENT
END:VCALENDAR