BEGIN:VCALENDAR
VERSION:2.0
PRODID:-//Cardel Theatre - ECPv6.0.1.1//NONSGML v1.0//EN
CALSCALE:GREGORIAN
METHOD:PUBLISH
X-WR-CALNAME:Cardel Theatre
X-ORIGINAL-URL:https://www.cardeltheatre.com
X-WR-CALDESC:Events for Cardel Theatre
REFRESH-INTERVAL;VALUE=DURATION:PT1H
X-Robots-Tag:noindex
X-PUBLISHED-TTL:PT1H
BEGIN:VTIMEZONE
TZID:America/Edmonton
BEGIN:DAYLIGHT
TZOFFSETFROM:-0700
TZOFFSETTO:-0600
TZNAME:MDT
DTSTART:20250309T090000
END:DAYLIGHT
BEGIN:STANDARD
TZOFFSETFROM:-0600
TZOFFSETTO:-0700
TZNAME:MST
DTSTART:20251102T080000
END:STANDARD
END:VTIMEZONE
BEGIN:VEVENT
DTSTART;TZID=America/Edmonton:20250924T080000
DTEND;TZID=America/Edmonton:20250924T173000
DTSTAMP:20260422T042603
CREATED:20250728T200019Z
LAST-MODIFIED:20250728T200019Z
UID:3199-1758700800-1758735000@www.cardeltheatre.com
SUMMARY:CoolIT x DCD Training - Data Center 101 Bootcamp - Day 2
DESCRIPTION:Corporate Training Day 2
URL:https://www.cardeltheatre.com/event/coolit-x-dcd-training-data-center-101-bootcamp-day-2/
END:VEVENT
END:VCALENDAR