BEGIN:VCALENDAR
VERSION:2.0
PRODID:-//Cardel Theatre - ECPv6.0.1.1//NONSGML v1.0//EN
CALSCALE:GREGORIAN
METHOD:PUBLISH
X-ORIGINAL-URL:https://www.cardeltheatre.com
X-WR-CALDESC:Events for Cardel Theatre
REFRESH-INTERVAL;VALUE=DURATION:PT1H
X-Robots-Tag:noindex
X-PUBLISHED-TTL:PT1H
BEGIN:VTIMEZONE
TZID:America/Edmonton
BEGIN:DAYLIGHT
TZOFFSETFROM:-0700
TZOFFSETTO:-0600
TZNAME:MDT
DTSTART:20260308T090000
END:DAYLIGHT
BEGIN:STANDARD
TZOFFSETFROM:-0600
TZOFFSETTO:-0700
TZNAME:MST
DTSTART:20261101T080000
END:STANDARD
END:VTIMEZONE
BEGIN:VEVENT
DTSTART;TZID=America/Edmonton:20260318T123000
DTEND;TZID=America/Edmonton:20260318T173000
DTSTAMP:20260421T024036
CREATED:20260212T205824Z
LAST-MODIFIED:20260212T205824Z
UID:3507-1773837000-1773855000@www.cardeltheatre.com
SUMMARY:Make it Here: Seizing Canada’s Food Production Opportunity
DESCRIPTION:Make it Here: Seizing Canada’s Food Production Opportunity is a cross‑country dialogue designed to ensure Protein Industries Canada is positioned to lead the ambitions of the food production and value added agriculture industry. This collaborative event will bring together partners across the value chain to position food production and value‑added agriculture as a national economic priority. Together\, we will identify the greatest barriers to scaling businesses\, growing Canada’s value‑added agriculture sector\, and becoming a global leader in high‑value ingredients and food products.
URL:https://www.cardeltheatre.com/event/make-it-here-seizing-canadas-food-production-opportunity/
END:VEVENT
END:VCALENDAR